BEGIN:VCALENDAR
VERSION:2.0
PRODID:-//eventon.com NONSGML v1.0//EN
CALSCALE:GREGORIAN
METHOD:PUBLISH
BEGIN:VEVENT
UID:69e745d045e12
DTSTAMP:20260421T093928Z
DTSTART:20250822
DTEND:20250823
LOCATION:
SUMMARY:Carnival
DESCRIPTION:Step right up!! The NY State Fair in Syracuse\,  NY is just a s
 hort drive away\,  so come and camp with us! We’ll have our own amazing K
 id’s Carnival on Saturday with lots of fun\,  games\,  prizes and more! P
 lus build your own stuffed animal and an epic foam party.\nhttps://jellysto
 necny.com/events/carnival/
URL:https://jellystonecny.com/events/carnival/
END:VEVENT
END:VCALENDAR